BEGIN:VCALENDAR
VERSION:2.0
PRODID:-//Bücher - nicht nur zum Judentum - ECPv6.1.3//NONSGML v1.0//EN
CALSCALE:GREGORIAN
METHOD:PUBLISH
X-ORIGINAL-URL:http://buecher.hagalil.com
X-WR-CALDESC:Veranstaltungen für Bücher - nicht nur zum Judentum
REFRESH-INTERVAL;VALUE=DURATION:PT1H
X-Robots-Tag:noindex
X-PUBLISHED-TTL:PT1H
BEGIN:VTIMEZONE
TZID:Europe/Helsinki
BEGIN:DAYLIGHT
TZOFFSETFROM:+0200
TZOFFSETTO:+0300
TZNAME:EEST
DTSTART:20150329T010000
END:DAYLIGHT
BEGIN:STANDARD
TZOFFSETFROM:+0300
TZOFFSETTO:+0200
TZNAME:EET
DTSTART:20151025T010000
END:STANDARD
END:VTIMEZONE
BEGIN:VEVENT
DTSTART;TZID=Europe/Helsinki:20150223T090000
DTEND;TZID=Europe/Helsinki:20150223T090000
DTSTAMP:20260419T210001
CREATED:20150215T115533Z
LAST-MODIFIED:20150215T115533Z
UID:5524-1424682000-1424682000@buecher.hagalil.com
SUMMARY:Kleiner Hörtipp
DESCRIPTION:Kleiner Hörtipp für Montag\, 23.2.\, 9 Uhr auf Bayern2 \nOn Air oder im Livestream unter bayern2.de\, nach Ausstrahlung im podcast unter: \nhttp://www.br.de/radio/bayern2/programmkalender/sendung987734.html \n\nRadiowissen: Knilling und Hitler\nEugen von Knilling – Ein Ministerpräsident und der Hitlerputsch. Von Hans Hinterberger\nHitler in Landsberg – Der Festungshäftling. Von Thies Marsen \nHitler in Landsberg – Der Festungshäftling\nNach seinem gescheiterten Putschversuch im November 1923 wird Adolf Hitler im Gefängnis von Landsberg am Lech eingesperrt. Bei seiner Einlieferung ist er lichtscheu und depressiv. Doch schon 13 Monate später kann Hitler das Gefängnis wieder verlassen. Er hat nicht nur deutlich zugenommen\, sondern er ist auch sonst wieder im Vollbesitz seiner Kräfte. Dank einer Gefängnisleitung\, die mit Hitler sympathisiert\, und einer Justiz\, die den gescheiterten Putschisten und Hochverräter auffällig schont\, kann Hitler seine Position als selbsternannter Führer der rechtsextremen Kräfte festigen.
URL:http://buecher.hagalil.com/event/kleiner-hoertipp/
END:VEVENT
BEGIN:VEVENT
DTSTART;TZID=Europe/Helsinki:20150223T180000
DTEND;TZID=Europe/Helsinki:20150223T200000
DTSTAMP:20260419T210001
CREATED:20150214T161836Z
LAST-MODIFIED:20150214T162519Z
UID:5523-1424714400-1424721600@buecher.hagalil.com
SUMMARY:„Kein Weg als Deutscher und Jude“ – eine Relecture nach zwanzig Jahren
DESCRIPTION:Prof. Dr. Micha Brumlik\, Emeritus des Instituts für Allgemeine Erziehungswissenschaft der Goethe-Universität Frankfurt am Main und seit Oktober 2013 Senior Advisor am Zentrum Jüdische Studien Berlin-Brandenburg \nDer renommierte Wissenschaftler und Publizist eröffnet mit seinem Vortrag die internationale und interdisziplinäre Tagung für Nachwuchswissenschaftler der Universität Augsburg und des Franz-Rosenzweig-Minerva-Zentrums der Hebrew University of Jerusalem zum Thema „Rückkehr-Erzählungen. Über die  (Un)Möglichkeit nach 1945 in Deutschland als Jude zu leben“\, die von Prof. Dr. Bettina Bannasch\, Augsburg und Prof. Yfaat Weiss\, Jerusalem geleitet wird. Gleichzeitig ist der Vortrag ein Beitrag zum Rahmenprogramm der aktuellen Ausstellung des JKM „Fremd im eigenen Land? Zwischen Synagoge und Museum: die jüdische Gemeinde Augsburg\, 1969 – 1990“. Denn die Ausstellung thematisiert die Umbruchsituation\, in der Micha Brumliks Buch entstand. \nIn Kooperation mit dem Lehrstuhl für Neuere deutsche Literaturwissenschaft\, Prof. Dr. Bettina Bannasch\, Universität Augsburg \nKosten: 5\,00/3\,00 Euro \nOrt: Festsaal\, Jüdisches Kulturmuseum Augsburg
URL:http://buecher.hagalil.com/event/brumlik/
END:VEVENT
END:VCALENDAR