BEGIN:VCALENDAR
VERSION:2.0
PRODID:-//Bücher - nicht nur zum Judentum - ECPv6.1.3//NONSGML v1.0//EN
CALSCALE:GREGORIAN
METHOD:PUBLISH
X-WR-CALNAME:Bücher - nicht nur zum Judentum
X-ORIGINAL-URL:http://buecher.hagalil.com
X-WR-CALDESC:Veranstaltungen für Bücher - nicht nur zum Judentum
REFRESH-INTERVAL;VALUE=DURATION:PT1H
X-Robots-Tag:noindex
X-PUBLISHED-TTL:PT1H
BEGIN:VTIMEZONE
TZID:Europe/Helsinki
BEGIN:DAYLIGHT
TZOFFSETFROM:+0200
TZOFFSETTO:+0300
TZNAME:EEST
DTSTART:20150329T010000
END:DAYLIGHT
BEGIN:STANDARD
TZOFFSETFROM:+0300
TZOFFSETTO:+0200
TZNAME:EET
DTSTART:20151025T010000
END:STANDARD
END:VTIMEZONE
BEGIN:VEVENT
DTSTART;TZID=Europe/Helsinki:20150211T190000
DTEND;TZID=Europe/Helsinki:20150211T210000
DTSTAMP:20260419T211253
CREATED:20150204T110926Z
LAST-MODIFIED:20150204T110926Z
UID:5497-1423681200-1423688400@buecher.hagalil.com
SUMMARY:Lehrhaus: Strömungen im Judentum
DESCRIPTION:Die Mischna – der grundlegende Text des nachbiblischen Judentums\nMittwoch\, 11.2.\, 19:00 Uhr \nRabbiner Nils Ederberg\, Absolvent des Abraham-Geiger-Kollegs und Lehrbeauftragter am Institut für Jüdische Theologie der Universität Potsdam\, mit einer Einführung von Dr. h. c. Henry G. Brandt \nDieses Mal steht im Zentrum der Reihe zu den STRÖMUNGEN im Judentum die Mischna. Alle Varianten des Judentums der letzten zweitausend Jahre gehen auf diese Textsammlung zurück\, die im zweiten Jahrhundert der Zeitrechnung entstand. Nils Ederberg\, der zur Masorti Strömung des Judentums (Conservative) gehört\, fragt in seinem Vortrag nach Kontext\, Text und Wirkungsgeschichte. In welcher historischen Situation ist sie entstanden? Womit befasst sie sich und auf welche Weise tut sie dies? Was ist ihre Bedeutung für das Judentum im Laufe der Zeiten und in der Gegenwart? \nKosten: 5\,00/3\,00 Euro\nOrt: Festsaal\nJüdisches Kulturmuseum Augsburg
URL:http://buecher.hagalil.com/event/lehrhaus/
END:VEVENT
END:VCALENDAR