BEGIN:VCALENDAR
VERSION:2.0
PRODID:-//Bücher - nicht nur zum Judentum - ECPv6.1.3//NONSGML v1.0//EN
CALSCALE:GREGORIAN
METHOD:PUBLISH
X-ORIGINAL-URL:http://buecher.hagalil.com
X-WR-CALDESC:Veranstaltungen für Bücher - nicht nur zum Judentum
REFRESH-INTERVAL;VALUE=DURATION:PT1H
X-Robots-Tag:noindex
X-PUBLISHED-TTL:PT1H
BEGIN:VTIMEZONE
TZID:Europe/Helsinki
BEGIN:DAYLIGHT
TZOFFSETFROM:+0200
TZOFFSETTO:+0300
TZNAME:EEST
DTSTART:20150329T010000
END:DAYLIGHT
BEGIN:STANDARD
TZOFFSETFROM:+0300
TZOFFSETTO:+0200
TZNAME:EET
DTSTART:20151025T010000
END:STANDARD
END:VTIMEZONE
BEGIN:VEVENT
DTSTART;TZID=Europe/Helsinki:20150125T160000
DTEND;TZID=Europe/Helsinki:20150125T180000
DTSTAMP:20260419T223433
CREATED:20150109T113556Z
LAST-MODIFIED:20150109T113556Z
UID:5473-1422201600-1422208800@buecher.hagalil.com
SUMMARY:Gedenkveranstaltung  zum 8. Todestag des armenischen Journalisten Hrant Dink
DESCRIPTION:In Gedenken an den armenischen Journalisten Hrant Dink (1956-2007) laden die Deutsch-Armenischen Gesellschaft\, das Hrant Dink Forum Köln und das KulturForum TürkeiDeutschland auch in diesem Jahr zu einer interkulturellen Veranstaltung zur Stärkung des Dialogs und der Verständigung ein. \n1915–2015: Hrant Dink und die Erinnerungskultur \nSonntag\, den 25. Januar 2015 l 16 Uhr l Alte Feuerwache\, Ebertplatz\, Köln \nMIGIRDIC MARGOSYAN l Schriftsteller\, Philosoph; Lehrer von Hrant Dink \nHAYKO BAGDAT l Redakteur der türkischen Tageszeitung „Taraf“ \nGÜNTER WALLRAFF l Journalist\, Autor\,  DOGAN AKHANLI l Schriftsteller \nRAFFI KANTIAN l Publizist\, ILIAS UYAR l Rechtsanwalt\, ERDAL SAHIN l Autor \nMusik: ANNA DEINYAN\, SATUK TUMYAN\, HAYK DEINYAN \nModeration: Berivan AYMAZ\n100 Jahre nach dem Völkermord an den Armeniern im Osmanischen Reich findet die diesjährige Veranstaltung auch in Gedenken an die Ereignisse während des Ersten Weltkriegs statt\, deren in diesem Jahr international gedacht wird. \nDer brutale Anschlag auf das Satiremagazin „Charlie Hebdo“ am 7. Januar 2015 in Paris weckt Erinnerungen an den Anschlag auf Hrant Dink und bestärkt uns in der Notwendigkeit\, unser demokratisches Recht auf Presse- und Meinungsfreiheit friedlich und verantwortungsvoll zu verteidigen. \nHrant Dink – Der Menschenrechtler und Gründer der armenisch-türkischen Wochenzeitung „Agos“ wurde am 19. Januar 2007 von Ultranationalisten auf offener Straße in Istanbul ermordet. Dink hatte sich für den türkisch-armenischen Dialog und eine öffentliche Auseinandersetzung mit dem Völkermord an den Armeniern im Osmanischen Reich eingesetzt. In dem umstrittenen\, andauernden Mordprozess wurden einzelne Täter verurteilt; viele Zeichen deuten jedoch auf einen organisierten Mord unter Beteiligung staatlicher Organe hin.
URL:http://buecher.hagalil.com/event/gedenkveranstaltung-zum-8-todestag-des-armenischen-journalisten-hrant-dink/
END:VEVENT
END:VCALENDAR