BEGIN:VCALENDAR
VERSION:2.0
PRODID:-//Bücher - nicht nur zum Judentum - ECPv6.1.3//NONSGML v1.0//EN
CALSCALE:GREGORIAN
METHOD:PUBLISH
X-WR-CALNAME:Bücher - nicht nur zum Judentum
X-ORIGINAL-URL:http://buecher.hagalil.com
X-WR-CALDESC:Veranstaltungen für Bücher - nicht nur zum Judentum
REFRESH-INTERVAL;VALUE=DURATION:PT1H
X-Robots-Tag:noindex
X-PUBLISHED-TTL:PT1H
BEGIN:VTIMEZONE
TZID:Europe/Helsinki
BEGIN:DAYLIGHT
TZOFFSETFROM:+0200
TZOFFSETTO:+0300
TZNAME:EEST
DTSTART:20140330T010000
END:DAYLIGHT
BEGIN:STANDARD
TZOFFSETFROM:+0300
TZOFFSETTO:+0200
TZNAME:EET
DTSTART:20141026T010000
END:STANDARD
END:VTIMEZONE
BEGIN:VEVENT
DTSTART;TZID=Europe/Helsinki:20141217T193000
DTEND;TZID=Europe/Helsinki:20141217T220000
DTSTAMP:20260419T234745
CREATED:20141213T203252Z
LAST-MODIFIED:20141213T203558Z
UID:5437-1418844600-1418853600@buecher.hagalil.com
SUMMARY:"Allein unter Juden"
DESCRIPTION:Buchvorstellung und Gespräch mit Tuvia Tenenbom über die aktuelle Lage in Israel… \nim Hörsaal II im Hauptgebäude der Universität zu Köln \nAn dem Abend werden Sie die Möglichkeit haben\, Tenenboms Bücher „Allein unter Juden“\, „Allein unter Deutschen“ sowie „Fett wie ein Turnschuh“ käuflich zu erwerben. \nDer Eintritt für die Veranstaltungen ist frei\, es wird jedoch um Spenden für unser Schulprojekt „Hinter der Kulisse – Judentum kennenlernen“ gebeten. \nMilch und Honig – Jüdisches Kulturzentrum Köln e.V.\nwww.milchundhonig-koeln.de
URL:http://buecher.hagalil.com/event/allein-unter-juden/
END:VEVENT
END:VCALENDAR