BEGIN:VCALENDAR
VERSION:2.0
PRODID:-//Bücher - nicht nur zum Judentum - ECPv6.1.3//NONSGML v1.0//EN
CALSCALE:GREGORIAN
METHOD:PUBLISH
X-ORIGINAL-URL:http://buecher.hagalil.com
X-WR-CALDESC:Veranstaltungen für Bücher - nicht nur zum Judentum
REFRESH-INTERVAL;VALUE=DURATION:PT1H
X-Robots-Tag:noindex
X-PUBLISHED-TTL:PT1H
BEGIN:VTIMEZONE
TZID:Europe/Helsinki
BEGIN:DAYLIGHT
TZOFFSETFROM:+0200
TZOFFSETTO:+0300
TZNAME:EEST
DTSTART:20140330T010000
END:DAYLIGHT
BEGIN:STANDARD
TZOFFSETFROM:+0300
TZOFFSETTO:+0200
TZNAME:EET
DTSTART:20141026T010000
END:STANDARD
END:VTIMEZONE
BEGIN:VEVENT
DTSTART;TZID=Europe/Helsinki:20141216T153000
DTEND;TZID=Europe/Helsinki:20141216T223000
DTSTAMP:20260419T235003
CREATED:20141213T202933Z
LAST-MODIFIED:20141213T203452Z
UID:5436-1418743800-1418769000@buecher.hagalil.com
SUMMARY:Vor\, während und nach dem "Gaza-Krieg"
DESCRIPTION:Aktueller Antisemitismus und Holocaustwahrnehmungen im arabischen Raum\, der Türkei\, in Marokko und unter „Muslim_innen“ in Europa… \nDie Konferenz thematisiert Antisemitismus und Holocaustwahrnehmungen in verschiedenen „muslimischen“ und national-staatlichen Kontexten und diskutiert mögliche beidseitige „Diskurstransfers“ zwischen Europa und den arabischen Ländern\, der Türkei und Marokko. Der Schwerpunkt liegt dabei auf der Genese und aktuellen Formen seit dem „arabischen Frühling“\, Erdoğan in der Türkei\, mit besonderem Fokus auf die Zeit des letzten „Gaza-Kriegs“. \nWährend der Konferenz wird auch das Buch „Umstrittene Vergangenheit. Ansichten zum Holocaust unter Muslimen im internationalen Vergleich“ (Hgs. Jikeli\, Stoller\, Allouche-Benayoun) vorgestellt. \nAnmeldungen bis 13.12.2014 an: anmeldung@iibsa.org\nDie Teilnahme ist kostenlos.\nKonferenzsprache ist Englisch. \nPROGRAMM \nVeranstaltungsort\nAmadeu-Antonio-Stiftung\,\nLinienstr. 139\, 10115 Berlin-Mitte\nNähe: S-Bahn Oranienburgerstraße / S+U-Bahn Friedrichstraße \nWir behalten uns vor\, Personen\, die selbst oder deren Organisationen oder Parteien in der Vergangenheit durch rassistische\, antisemitische\, sexistische\, homo- oder transphobe Äußerungen oder Handlungen in Erscheinung getreten sind\, von der Veranstaltung auszuschließen oder ihre Teilnahme nicht zuzulassen. \nDie Veranstaltung wird gefördert im Rahmen der \nAktionswochen gegen Antisemitismus \nMit freundlicher Unterstützung der \nStiftung „Erinnerung\, Verantwortung und Zukunft“ \nVeranstaltet durch\nInternationales Institut für Bildung\, Sozial- und  Antisemitismusforschung\nInternational Institute for Education and Research on Antisemitism\nLohmühlenstr. 65\, 12435 Berlin\nmail@iibsa.org | www.iibsa.org \nin Kooperation mit \nAmadeu-Antonio-Stiftung\, Linienstraße 139\, 10115 Berlin-Mitte\nwww.amadeu-antonio-stiftung.de
URL:http://buecher.hagalil.com/event/iibsa/
END:VEVENT
END:VCALENDAR