BEGIN:VCALENDAR
VERSION:2.0
PRODID:-//Bücher - nicht nur zum Judentum - ECPv6.1.3//NONSGML v1.0//EN
CALSCALE:GREGORIAN
METHOD:PUBLISH
X-WR-CALNAME:Bücher - nicht nur zum Judentum
X-ORIGINAL-URL:http://buecher.hagalil.com
X-WR-CALDESC:Veranstaltungen für Bücher - nicht nur zum Judentum
REFRESH-INTERVAL;VALUE=DURATION:PT1H
X-Robots-Tag:noindex
X-PUBLISHED-TTL:PT1H
BEGIN:VTIMEZONE
TZID:Europe/Helsinki
BEGIN:DAYLIGHT
TZOFFSETFROM:+0200
TZOFFSETTO:+0300
TZNAME:EEST
DTSTART:20140330T010000
END:DAYLIGHT
BEGIN:STANDARD
TZOFFSETFROM:+0300
TZOFFSETTO:+0200
TZNAME:EET
DTSTART:20141026T010000
END:STANDARD
END:VTIMEZONE
BEGIN:VEVENT
DTSTART;TZID=Europe/Helsinki:20141209T193000
DTEND;TZID=Europe/Helsinki:20141209T213000
DTSTAMP:20260419T234904
CREATED:20141207T095611Z
LAST-MODIFIED:20141207T095715Z
UID:5432-1418153400-1418160600@buecher.hagalil.com
SUMMARY:“Was soll denn jüdisch sein am Schreiben?”
DESCRIPTION:Esther Dischereit im Gespräch mit Eszter Gantner… \nam Dienstag\, dem 9. Dezember 2014 um 19:30 Uhr im Nachbarschaftshaus am Teutoburger Platz\, Fehrbelliner Straße 92\, 10119 Berlin-Prenzlauer Berg (ehemaliges Jüdisches Kinderheim) \nWir heißen alle interessierten Frauen und Männer herzlich willkommen!\nFür Getränke und Snacks ist gesorgt. Der Eintritt ist frei. \nEsther Dischereit ist eine der wichtigsten Stimmen deutsch-jüdischer Literatur. In dem Gespräch wird aber nicht nur ihr schriftstellerisches Schaffen reflektiert\, sondern auch ihre künstlerische Tätigkeit\, ihre Auseinandersetzung mit Erinnerungslandschaften und die Rolle des Jüdischen im Kultur- und Erinnerungsbetrieb. \nDr. Eszter B. Gantner ist wissenschaftliche Mitarbeiterin am Institut für Europäische Ethnologie der Humboldt Universität zu Berlin. Ihre Forschungsschwerpunkte liegen zur Zeit auf folgenden Gebieten: Urbane Kultur/Räume im Mitteleuropa\, Geschichte Mitteleuropas nach 1945\, Migration und Kulturtransfer\, Jüdische Räume nach 1945. \nhttp://www.hagalil.com/archiv/2014/08/29/dischereit-3/\nhttp://buecher.hagalil.com/2014/03/dischereit-2/\nhttp://buecher.hagalil.com/sonstiges/dischereit.htm
URL:http://buecher.hagalil.com/event/dischereit/
END:VEVENT
END:VCALENDAR