BEGIN:VCALENDAR
VERSION:2.0
PRODID:-//Bücher - nicht nur zum Judentum - ECPv6.1.3//NONSGML v1.0//EN
CALSCALE:GREGORIAN
METHOD:PUBLISH
X-WR-CALNAME:Bücher - nicht nur zum Judentum
X-ORIGINAL-URL:http://buecher.hagalil.com
X-WR-CALDESC:Veranstaltungen für Bücher - nicht nur zum Judentum
REFRESH-INTERVAL;VALUE=DURATION:PT1H
X-Robots-Tag:noindex
X-PUBLISHED-TTL:PT1H
BEGIN:VTIMEZONE
TZID:Europe/Helsinki
BEGIN:DAYLIGHT
TZOFFSETFROM:+0200
TZOFFSETTO:+0300
TZNAME:EEST
DTSTART:20140330T010000
END:DAYLIGHT
BEGIN:STANDARD
TZOFFSETFROM:+0300
TZOFFSETTO:+0200
TZNAME:EET
DTSTART:20141026T010000
END:STANDARD
END:VTIMEZONE
BEGIN:VEVENT
DTSTART;TZID=Europe/Helsinki:20140111T080000
DTEND;TZID=Europe/Helsinki:20140514T170000
DTSTAMP:20260420T102535
CREATED:20140112T001205Z
LAST-MODIFIED:20140112T001637Z
UID:5079-1389427200-1400086800@buecher.hagalil.com
SUMMARY:Jäger und Gejagte: Die exotische Tierwelt des römischen Mosaiks aus Lod (Israel)
DESCRIPTION:Siebzehn Jahre nach seiner Entdeckung wird bis zum 11.05.14 im Alten Museum Berlin eines der eindrucksvollsten antiken Mosaike aus Israel der Öffentlichkeit zugänglich gemacht… \nDer 1700 Jahre alte Mosaikfußboden ist ein archäologisches Juwel und befindet sich in außergewöhnlich gutem Zustand. Im Jahr 1996 wurde dieser Schatz bei Straßenbauarbeiten in der Kleinstadt Lod bei Tel Aviv gefunden. Das Mosaik umfasst eine Fläche von etwa 180 Quadratmetern und enthält Detaildarstellungen von Säugetieren\, Vögeln\, Fischen\, Pflanzen sowie Schiffen\, die zu jener Zeit in Gebrauch waren. In der beeindruckenden Rotunde des Alten Museums werden die drei besterhaltenen und interessantesten Paneele auf einer Fläche etwa 7 x 4 m gezeigt\, auf denen zahlreiche exotische Tiere dargestellt sind. Besonders spektakulär sind die Darstellungen von Tierkampfgruppen und wilder Raubtiere. \nDer Berliner Zoo kooperiert im Zusammenhang mit dem Mosaik erstmals mit dem Alten Museum Berlin und bietet Führungen und Fachvorträge im Hinblick auf die im Lod-Mosaik dargestellten Tiere an. \nDie Ausstellung entstand in Zusammenarbeit mit der Israel Antiquities Authority (IAA)\, dem Shelby White and Leon Levy Lod Mosaic Center und The Friends of the Israel Antiquities Authority\, dem Kuratorium Museumsinsel und der Museum & Location Veranstaltungsorganisation der Staatlichen Museen zu Berlin. \nBotschafter Yakov Hadas-Handelsman  zeigte sich in seinem Grußwort anlässlich der Ausstellungseröffnung  am 17.10.13 sehr erfreut über den Berlinbesuch des Mosaiks\, mit dem ein Stück Israel vorübergehend ins Alte Museum eingezogen ist: „Es ist kein Geheimnis\, dass ganz Israel eine Art großes Freilichtmuseum ist – mit unzähligen historischen und archäologischen Stätten. Bei uns in Israel können Sie buchstäblich auf den Spuren der Geschichte wandeln. (…) Dieses phantastische Mosaik machte sich jedenfalls vor drei Jahren von Israel aus auf den Weg durch bedeutende Museen in der Welt. Nun ist es in Berlin im Alten Museum angekommen. Ich finde\, es passt wunderbar hierher. Zumal es sich hier in der Rotunde in der einzigartigen Gesellschaft von Göttern befindet!“ \nBeitrag in der RBB Abendschau | FB-Album vom Einzug des Mosaiks |  vom Alten Museum zusammengestellte Sammlung aller Informationen rund um die Ausstellung |  Bericht in der JAZ | Website des Lod-Mosaiks \nvia “Jäger und Gejagte” Lod-Mosaik im Alten Museum Berlin.
URL:http://buecher.hagalil.com/event/mosaik-aus-lod/
LOCATION:Berlin\, Altes Museum\, Deutschland
END:VEVENT
BEGIN:VEVENT
DTSTART;TZID=Europe/Helsinki:20140301T070000
DTEND;TZID=Europe/Helsinki:20140510T170000
DTSTAMP:20260420T102535
CREATED:20131225T231650Z
LAST-MODIFIED:20131225T232235Z
UID:4982-1393657200-1399741200@buecher.hagalil.com
SUMMARY:Abraham B. Jehoschua: „Spanische Barmherzigkeit"
DESCRIPTION:Der Autor erzählt in seinem meisterhaft komponierten Roman von einem erfolgreichen Leben und von dem Preis\, der dafür bezahlt werden muss… \nAbraham B. Jehoschua: „Spanische Barmherzigkeit“\nIm September erschien im Suhrkamp Verlag der Roman „Spanische Barmherzigkeit“ von A.B. Jehoschua. \nAls der Regisseur Jair Moses zu einer Retrospektive seiner Filme nach Santiago de Compostela eingeladen wird\, will er die Reise nach Spanien in Begleitung von Ruth\, seiner langjährigen Weggefährtin\, genießen. Aber dann ruft ein verstörendes Bild in seinem Hotelzimmer vergessen geglaubte Erinnerungen wach: Eine Filmszene\, in der Ruth als junge Frau einem Bettler am Straßenrand die Brust geben sollte\, führte zum Zerwürfnis mit dem Drehbuchautor\, seinem engsten Freund. Wie konnte es so weit kommen?\nDie Konfrontation mit seinen alten Filmen\, noch dazu in der fremden Sprache\, lässt Moses tief in seine Vergangenheit eintauchen und ihn die Ereignisse von damals in einem neuen Licht sehen. Der überwältigende Wunsch nach Versöhnung wird für ihn zum Auslöser für die Auseinandersetzung mit der eigenen Geschichte. \nDer Autor wird voraussichtlich im März 2014 sein Buch selbst auf der Buchmesse Leipzig vorstellen. \nAbraham B. Jehoschua: „Spanische Barmherzigkeit“\nAus dem Hebräischen von Markus Lemke\nErschienen am 16. September 2013\nGebunden\, 477 Seiten\nISBN: 978-3-518-42397-4\n© 2013 Suhrkamp Verlag GmbH und Co. KG\, alle Rechte vorbehalten
URL:http://buecher.hagalil.com/event/abraham-b-jehoschua/
LOCATION:Leipzig\, Deutschland
END:VEVENT
END:VCALENDAR