BEGIN:VCALENDAR
VERSION:2.0
PRODID:-//Bücher - nicht nur zum Judentum - ECPv6.1.3//NONSGML v1.0//EN
CALSCALE:GREGORIAN
METHOD:PUBLISH
X-WR-CALNAME:Bücher - nicht nur zum Judentum
X-ORIGINAL-URL:http://buecher.hagalil.com
X-WR-CALDESC:Veranstaltungen für Bücher - nicht nur zum Judentum
REFRESH-INTERVAL;VALUE=DURATION:PT1H
X-Robots-Tag:noindex
X-PUBLISHED-TTL:PT1H
BEGIN:VTIMEZONE
TZID:Europe/Helsinki
BEGIN:DAYLIGHT
TZOFFSETFROM:+0200
TZOFFSETTO:+0300
TZNAME:EEST
DTSTART:20130331T010000
END:DAYLIGHT
BEGIN:STANDARD
TZOFFSETFROM:+0300
TZOFFSETTO:+0200
TZNAME:EET
DTSTART:20131027T010000
END:STANDARD
BEGIN:DAYLIGHT
TZOFFSETFROM:+0200
TZOFFSETTO:+0300
TZNAME:EEST
DTSTART:20140330T010000
END:DAYLIGHT
BEGIN:STANDARD
TZOFFSETFROM:+0300
TZOFFSETTO:+0200
TZNAME:EET
DTSTART:20141026T010000
END:STANDARD
END:VTIMEZONE
BEGIN:VEVENT
DTSTART;TZID=Europe/Helsinki:20131015T080000
DTEND;TZID=Europe/Helsinki:20140118T170000
DTSTAMP:20260420T191608
CREATED:20140111T132025Z
LAST-MODIFIED:20140111T132759Z
UID:5075-1381824000-1390064400@buecher.hagalil.com
SUMMARY:Sabine Kahane: Wüstenbilder in Überlingen
DESCRIPTION:In Überlingen am Bodensee sind zur Zeit „Bilder der Wüste“ der israelischen Künstlerin Sabine Kahane zu sehen. Die Ausstellung im Kunsthandel Walz dauert noch bis zum 18. Januar 2014. Zu sehen sind ausgewählte farbige Arbeiten: Gemälde\, Gouachen und Aluminium-Frottagen…\n\nSeit nunmehr fast zwanzig Jahren lebt und arbeitet die in Deutschland geborene und an der Kunsthochschule in Berlin-Weißensee ausgebildete Malerin und Graphikerin Sabine Kahane in der Wüste Negev – ohne sie seitdem jemals wieder verlassen zu haben.\nDieser elementare\, noch unbesiedelte Ort\, seine Kargheit\, seine Gefahren\, aber auch seine lebensspendende Bedeutung und spirituelle Kraft liefert den thematischen Gestaltungshorizont und setzt der Kreativität der Künstlerin visuelle Koordinaten. \nSabine Kahane Überlingen.
URL:http://buecher.hagalil.com/event/negev/
LOCATION:Überlingen\, Deutschland
END:VEVENT
BEGIN:VEVENT
DTSTART;TZID=Europe/Helsinki:20131120T080000
DTEND;TZID=Europe/Helsinki:20140323T170000
DTSTAMP:20260420T191608
CREATED:20131225T230746Z
LAST-MODIFIED:20131229T134532Z
UID:4976-1384934400-1395594000@buecher.hagalil.com
SUMMARY:Noa Eshkol: „Wall Carpets" in den Opelvillen
DESCRIPTION:Noch bis zum 23. März 2014 zeigen die Opelvillen die Ausstellung „Wall Carpets“ von Noa Eshkol… \nNoa Eshkols Wandteppiche:\nDie Grundprinzipien räumlicher Organisation sichtbar machen\n \nDas bildnerische Werk von Noa Eshkol (1924–2007) wird zum ersten Mal außerhalb Israels vorgestellt. Mit Beginn des Jom-Kippur-Kriegs hatte die Tänzerin und Choreographin 1973 begonnen\, aus gefundenen und gespendeten Stoffresten „Wandteppiche“ zu kreieren. Im Laufe der Jahre entstanden aus unterschiedlichen Stoffmustern und -arten vielfältige Kompositionen. Bis heute bilden die „Wall Carpets“ einen wenig berücksichtigten Aspekt im Schaffen von Noa Eshkol\, die vor allem durch ihre faszinierende Tanzmethode bekannt ist. \nGrundlage ihrer Innovationen im Tanz bildet ein Notationssystem\, das sie 1954 gemeinsam mit Avraham Wachman entwickelte und kodierte. Das sogenannte EWMN-System (Eshkol-Wachman-Movement-Notation-System) ist eine Methode zur Notation von Bewegung mittels Ziffern und eines minimalen Symbol-Alphabets\, das Tänzerinnen und Tänzern sowie Choreographinnen und Choreographen ein systematisiertes Werkzeug bietet\, Tänze zu komponieren und zu notieren\, in ähnlicher Weise\, wie Komponisten die Notenschrift für musikalische Partituren nutzen. \n\nEshkols grundlegendes Interesse zielte auf die Beobachtung und Verschriftlichung räumlicher Beziehungen zwischen einzelnen Körperteilen. Ihre „Wall Carpets“ basieren auf der Idee\, Vorgefundenes zu verarbeiten. Eshkol fertigte ihre textilen Kompositionen ausschließlich aus gesammelten Stoffstücken und veränderte niemals vorgefundene Formen. Die Stofffetzen wurden ihr sowohl von Kibbuzim aus dem ganzen Land gesendet als auch von Eshkols Tänzerinnen und Tänzern in lokalen Bekleidungsfabriken gesammelt. \nAn den Wochenenden\, wenn die Tänzerinnen und Tänzer\, die wochentags in ihrem Studio probten\, nicht mehr da waren\, stellte Eshkol allein ihre „Wall Carpets“ zusammen\, indem sie die textilen Reste in figürlichen oder abstrakten Arrangements mit Nadeln befestigte. Später wurden diese von den Tänzern\, Tänzerinnen und Freunden zusammengenäht. Der kollaborative Arbeitsprozess durchdringt Eshkols gesamtes Schaffen. \nDa viele der Stoffstücke aus Bekleidungsfabriken stammen\, zeigen die Teppiche häufig auch sich wiederholende Formen\, die die „Negative“ von Kleidungszuschnitten bilden – Umrisse eines Hemdkragens oder eines Armausschnitts etwa. Gemeinsam beschreiben die „Wall Carpets“ unterschiedliche und sich überschneidende Geschichten\, die zu einer verdichteten Historie israelischer Materialkultur kulminieren. \n\nWährend Eshkols Tanzkompositionen sorgfältig geplant\, strukturiert und minimalistisch sind\, wirken ihre textilen Variationen spontan\, farbintensiv und auch chaotisch. Dennoch ist eine Verbindung erkennbar: Beide Stränge\, sowohl Tanz als auch textile Komposition\, visualisieren die Grundprinzipien räumlicher Organisation. \nLudwig-Dörfler-Allee 9 D-65428 Rüsselsheim
URL:http://buecher.hagalil.com/event/noa-eshkol/
LOCATION:Opelvillen\, Deutschland
ORGANIZER;CN="Stiftung%20Opelvillen":MAILTO:opelvillen@online.de
END:VEVENT
BEGIN:VEVENT
DTSTART;TZID=Europe/Helsinki:20140109T190000
DTEND;TZID=Europe/Helsinki:20140109T210000
DTSTAMP:20260420T191608
CREATED:20131230T212307Z
LAST-MODIFIED:20131231T005812Z
UID:5018-1389294000-1389301200@buecher.hagalil.com
SUMMARY:Fußball und Fankultur in Israel
DESCRIPTION:Ein sportlicher Abend mit Alex Feuerherdt… \nAls im Juni 2013 die U21-Fußball-Europameisterschaft in Israel ausgetragen wurde\, war dies der größte sportpolitische Erfolg der Israel Football Association (IFA) überhaupt. Denn nach der Gründung des Verbandes 1948 war die Nationalmannschaft des Landes aufgrund von Boykotten durch arabische Staaten jahrzehntelang zu einer regelrechten Odyssee gezwungen; ihre Qualifikationsspiele musste sie teilweise sogar in Ozeanien austragen. \nErst Anfang der 1990er Jahre wurde die IFA – und mit ihr die israelischen Vereine – endlich als Vollmitglied in den europäischen Fußballverband UEFA aufgenommen. Dennoch gab und gibt es im Rahmen von Spielen israelischer Mannschaften massive Störungen\, sei es in Form von Boykottforderungen und Demonstrationen „pro-palästinensischer“ Aktivisten\, sei es in Form von gewalttätigen antisemitischen Ausschreitungen. \nAlex Feuerherdt\, freier Publizist aus Köln\, analysiert die Geschichte und Gegenwart des israelischen Fußballs. Er wirft dabei einen Blick auf die nicht unerheblichen politischen Auseinandersetzungen innerhalb der israelischen Klubs und deren Fanszenen und skizziert die Ausrichtungen von Ultra-Gruppierungen und Fankurven. \nDIG München\n Eintritt: 6 €\, ermäßigt 3 €\n Veranstaltungsort: Jüdisches Museum München\, St.-Jakobs-Platz 16
URL:http://buecher.hagalil.com/event/fussball/
LOCATION:Jüdisches Museum München\, St.-Jakobs-Platz 16
END:VEVENT
END:VCALENDAR